BEGIN:VCALENDAR
VERSION:2.0
PRODID:icalendar-ruby
CALSCALE:GREGORIAN
METHOD:PUBLISH
BEGIN:VEVENT
DTSTAMP:20260420T070739Z
UID:13-330507@wowbc.org
DTSTART:20261027T230000Z
DTEND:20261028T000000Z
CLASS:PUBLIC
CREATED:20260419T234813
DESCRIPTION:
LAST-MODIFIED:20260419T234813
LOCATION:WOWBC - Westland
SUMMARY:Tuesday Night Bible Clas
URL;VALUE=URI:https://www.wowbc.org/events/tuesday-night-bible-clas/2026-10
 -27
ATTACH;FILENAME=How to Study the Bible PDF.pdf;FMTTYPE=application/pdf:http
 s://dq5pwpg1q8ru0.cloudfront.net/2025/08/05/22/44/23/69fc952b-6e97-4c43-9a
 36-dfdd05234674/How%20to%20Study%20the%20Bible%20PDF.pdf
ATTACH;FILENAME=How to Study the Bible - WOWBC.pdf;FMTTYPE=application/pdf:
 https://dq5pwpg1q8ru0.cloudfront.net/2025/08/05/22/44/23/e51f08c4-ef72-446
 4-adf2-4bc6f8346953/How%20to%20Study%20the%20Bible%20-%20WOWBC.pdf
ATTACH;FILENAME=Hebrews 2-5-18 .pdf;FMTTYPE=application/pdf:https://dq5pwpg
 1q8ru0.cloudfront.net/2025/10/21/22/03/32/fde5df54-18dd-4e1f-b7d9-1dc842f2
 a0b0/Hebrews%202-5-18%20.pdf
ATTACH;FILENAME=Hebrews 2-1-4 .pdf;FMTTYPE=application/pdf:https://dq5pwpg1
 q8ru0.cloudfront.net/2025/10/21/22/03/33/9e44a557-5fe0-4872-9c81-43037b10e
 dd6/Hebrews%202-1-4%20.pdf
ATTACH;FILENAME=Hebrews 1-1-4 - Part 2 .pdf;FMTTYPE=application/pdf:https:/
 /dq5pwpg1q8ru0.cloudfront.net/2025/10/21/22/03/33/9bbf0f57-e483-4e2a-9695-
 8b11c0b429c0/Hebrews%201-1-4%20-%20Part%202%20.pdf
ATTACH;FILENAME=Hebrews 1-1-4 - Part 1.pdf;FMTTYPE=application/pdf:https://
 dq5pwpg1q8ru0.cloudfront.net/2025/10/21/22/03/33/751f4ef2-5d2a-4345-b954-0
 9f6c92b389d/Hebrews%201-1-4%20-%20Part%201.pdf
ATTACH;FILENAME=Jesus the Great High Priest - Hebrews 4-14-16.pdf;FMTTYPE=a
 pplication/pdf:https://dq5pwpg1q8ru0.cloudfront.net/2026/02/04/00/19/10/8f
 a2df30-c899-47c5-943a-0159c2b04d2a/Jesus%20the%20Great%20High%20Priest%20-
 %20Hebrews%204-14-16.pdf
END:VEVENT
END:VCALENDAR
